BEGIN:VCALENDAR
VERSION:2.0
PRODID:-//Boomrijk Lingewaard - ECPv6.15.20//NONSGML v1.0//EN
CALSCALE:GREGORIAN
METHOD:PUBLISH
X-ORIGINAL-URL:https://www.boomrijklingewaard.nl
X-WR-CALDESC:Evenementen voor Boomrijk Lingewaard
REFRESH-INTERVAL;VALUE=DURATION:PT1H
X-Robots-Tag:noindex
X-PUBLISHED-TTL:PT1H
BEGIN:VTIMEZONE
TZID:Europe/Paris
BEGIN:DAYLIGHT
TZOFFSETFROM:+0100
TZOFFSETTO:+0200
TZNAME:CEST
DTSTART:20200329T010000
END:DAYLIGHT
BEGIN:STANDARD
TZOFFSETFROM:+0200
TZOFFSETTO:+0100
TZNAME:CET
DTSTART:20201025T010000
END:STANDARD
BEGIN:DAYLIGHT
TZOFFSETFROM:+0100
TZOFFSETTO:+0200
TZNAME:CEST
DTSTART:20210328T010000
END:DAYLIGHT
BEGIN:STANDARD
TZOFFSETFROM:+0200
TZOFFSETTO:+0100
TZNAME:CET
DTSTART:20211031T010000
END:STANDARD
BEGIN:DAYLIGHT
TZOFFSETFROM:+0100
TZOFFSETTO:+0200
TZNAME:CEST
DTSTART:20220327T010000
END:DAYLIGHT
BEGIN:STANDARD
TZOFFSETFROM:+0200
TZOFFSETTO:+0100
TZNAME:CET
DTSTART:20221030T010000
END:STANDARD
END:VTIMEZONE
BEGIN:VEVENT
DTSTART;TZID=Europe/Paris:20211211T130000
DTEND;TZID=Europe/Paris:20211211T150000
DTSTAMP:20260423T202433
CREATED:20211128T212521Z
LAST-MODIFIED:20211202T111039Z
UID:1798-1639227600-1639234800@www.boomrijklingewaard.nl
SUMMARY:Weesboompjes brengen\, halen of ruilen
DESCRIPTION:Kom weesboompjes brengen\, halen of ruilen op de tweede actiedag van Bomenhub Lingewaard Veldschuur! Er staan al zo’n 600 weesboompjes en struikjes te wachten op een nieuwe tuin\, de geweldige opbrengst van de eerste actiedag in november. Te koud? Voor de boompjes geen probleem en voor de mensen is er koffie en thee.\n \n 
URL:https://www.boomrijklingewaard.nl/event/weesboompjes-brengen-halen-of-ruilen/
LOCATION:De Veldschuur\, Sportlaan 1M\, Bemmel\, Sportlaan\, Bemmel
ATTACH;FMTTYPE=image/jpeg:https://www.boomrijklingewaard.nl/wp-content/uploads/2021/10/IMG-20201114-MeerBomenNu.jpg
END:VEVENT
END:VCALENDAR