BEGIN:VCALENDAR
VERSION:2.0
PRODID:-//Boomrijk Lingewaard - ECPv6.15.20//NONSGML v1.0//EN
CALSCALE:GREGORIAN
METHOD:PUBLISH
X-ORIGINAL-URL:https://www.boomrijklingewaard.nl
X-WR-CALDESC:Evenementen voor Boomrijk Lingewaard
REFRESH-INTERVAL;VALUE=DURATION:PT1H
X-Robots-Tag:noindex
X-PUBLISHED-TTL:PT1H
BEGIN:VTIMEZONE
TZID:Europe/Paris
BEGIN:DAYLIGHT
TZOFFSETFROM:+0100
TZOFFSETTO:+0200
TZNAME:CEST
DTSTART:20200329T010000
END:DAYLIGHT
BEGIN:STANDARD
TZOFFSETFROM:+0200
TZOFFSETTO:+0100
TZNAME:CET
DTSTART:20201025T010000
END:STANDARD
BEGIN:DAYLIGHT
TZOFFSETFROM:+0100
TZOFFSETTO:+0200
TZNAME:CEST
DTSTART:20210328T010000
END:DAYLIGHT
BEGIN:STANDARD
TZOFFSETFROM:+0200
TZOFFSETTO:+0100
TZNAME:CET
DTSTART:20211031T010000
END:STANDARD
BEGIN:DAYLIGHT
TZOFFSETFROM:+0100
TZOFFSETTO:+0200
TZNAME:CEST
DTSTART:20220327T010000
END:DAYLIGHT
BEGIN:STANDARD
TZOFFSETFROM:+0200
TZOFFSETTO:+0100
TZNAME:CET
DTSTART:20221030T010000
END:STANDARD
END:VTIMEZONE
BEGIN:VEVENT
DTSTART;TZID=Europe/Paris:20211120T130000
DTEND;TZID=Europe/Paris:20211120T150000
DTSTAMP:20260423T214035
CREATED:20211014T081932Z
LAST-MODIFIED:20211109T113325Z
UID:1646-1637413200-1637420400@www.boomrijklingewaard.nl
SUMMARY:Actiedag Bomenhub Lingewaard
DESCRIPTION:Iedereen kan ongewenste boompjes komen inleveren op de startdag van Bomenhub Lingewaard. De boompjes moeten tussen de 50 cm en 2 meter hoog zijn om ze succesvol te kunnen herplanten. Hang bij het inleveren een kaartje aan jouw boom met de naam van het boompje. Lees HIER meer.
URL:https://www.boomrijklingewaard.nl/event/start-bomenhub-lingewaard/
LOCATION:De Veldschuur\, Sportlaan 1M\, Bemmel\, Sportlaan\, Bemmel
ATTACH;FMTTYPE=image/jpeg:https://www.boomrijklingewaard.nl/wp-content/uploads/2021/10/IMG-20201114-MeerBomenNu.jpg
END:VEVENT
BEGIN:VEVENT
DTSTART;TZID=Europe/Paris:20211130T193000
DTEND;TZID=Europe/Paris:20211130T210000
DTSTAMP:20260423T214035
CREATED:20210709T145335Z
LAST-MODIFIED:20211128T204505Z
UID:1299-1638300600-1638306000@www.boomrijklingewaard.nl
SUMMARY:Thema-avond Groenbeheer en Groenbeleid afgelast!
DESCRIPTION:AFGELAST! Helaas\, vanwege de verscherpte coronamaatregelen kan deze thema-avond dit jaar niet meer plaatsvinden. We zoeken zodra het weer kan een nieuwe datum\, begin 2022. \nSamen met Stichting Lingewaard Natuurlijk organiseren we deze thema-avond over het groenbeheer en groenbeleid van de gemeente. Nadat Boomrijk Lingewaard en Lingewaard Natuurlijk zich kort voorgesteld hebben\, verzorgt de afdeling groenbeheer een presentatie over het beleid van de gemeente\, zoals het cyclische bomenplan. Met ruim tijd voor het beantwoorden van vragen en discussie. \nReserveer de datum en tijd alvast in jouw agenda. Nadere invulling van het programma volgt op deze plek zodra er meer zekerheid is over de (corona)maatregelen. Dan kun je je ook aanmelden.
URL:https://www.boomrijklingewaard.nl/event/thema-avond-groen-en-bomenbeleid/
LOCATION:De Veldschuur\, Sportlaan 1M\, Bemmel\, Sportlaan\, Bemmel
END:VEVENT
END:VCALENDAR